BEGIN:VCALENDAR
VERSION:2.0
PRODID:-//Plone.org//NONSGML plone.app.event//EN
X-WR-TIMEZONE:Europe/Madrid
BEGIN:VEVENT
SUMMARY:Subhasta pública de peix
DTSTART;TZID=Europe/Madrid;VALUE=DATE-TIME:20091003T120000
DTEND;TZID=Europe/Madrid;VALUE=DATE-TIME:20091003T130000
DTSTAMP;VALUE=DATE-TIME:20260421T182613Z
UID:43546fa07342dc41ecc914218810c65d
CREATED;VALUE=DATE-TIME:20091003T000000Z
CATEGORIES:Exposició
LOCATION:Sala Polivalent del C.C.Calisay - Riera Pare Fita, 31
ORGANIZER:Àrea de Promoció Local
DESCRIPTION:XIV Jornades Gastronòmiques Calamarenys
URL:https://arenysdemar.cat/document.php?id=20702
END:VEVENT
END:VCALENDAR