BEGIN:VCALENDAR
VERSION:2.0
PRODID:-//Plone.org//NONSGML plone.app.event//EN
X-WR-TIMEZONE:Europe/Madrid
BEGIN:VEVENT
SUMMARY:Subhasta pública de peix
DTSTART;TZID=Europe/Madrid;VALUE=DATE-TIME:20091017T120000
DTEND;TZID=Europe/Madrid;VALUE=DATE-TIME:20091017T130000
DTSTAMP;VALUE=DATE-TIME:20260421T171154Z
UID:e874a3a38c319c464095da9a3229693d
CREATED;VALUE=DATE-TIME:20091017T000000Z
CATEGORIES:Exposició
LOCATION:Sala Polivalent del C.C.Calisay - Riera Pare Fita, 31
ORGANIZER:Regidoria de Promoció Local
DESCRIPTION:XIV Jornades Gastronòmiques Calamarenys
URL:https://arenysdemar.cat/document.php?id=20703
END:VEVENT
END:VCALENDAR