BEGIN:VCALENDAR
VERSION:2.0
PRODID:-//Plone.org//NONSGML plone.app.event//EN
X-WR-TIMEZONE:Europe/Madrid
BEGIN:VEVENT
SUMMARY:Lliga de petanca de l'alt Maresme
DTSTART;TZID=Europe/Madrid;VALUE=DATE-TIME:20091011T090000
DTEND;TZID=Europe/Madrid;VALUE=DATE-TIME:20091011T100000
DTSTAMP;VALUE=DATE-TIME:20260421T215505Z
UID:f01a16b2b6d68eb414d93730bfd524e7
CREATED;VALUE=DATE-TIME:20091011T000000Z
CATEGORIES:Esports
LOCATION:Parc de l'Asil Torrent
ORGANIZER:C.P.Sinera
URL:https://arenysdemar.cat/document.php?id=20707
END:VEVENT
END:VCALENDAR