BEGIN:VCALENDAR
VERSION:2.0
PRODID:-//Plone.org//NONSGML plone.app.event//EN
X-WR-TIMEZONE:Europe/Madrid
BEGIN:VEVENT
SUMMARY:Curs d'ASI I:Atenció Sanitària Immediata Nivell I
DTSTART;TZID=Europe/Madrid;VALUE=DATE-TIME:20091005T190000
DTEND;TZID=Europe/Madrid;VALUE=DATE-TIME:20091005T200000
DTSTAMP;VALUE=DATE-TIME:20260421T182445Z
UID:d9ff7a32316e1cda8cc3cb2a863d1d0f
CREATED;VALUE=DATE-TIME:20091005T000000Z
CATEGORIES:Cursos
LOCATION:Creu Roja a Arenys de Mar
ORGANIZER:Àmbit de formació -
COMMENT:Preu: 192 &euro;
Durada: 40 hores
DESCRIPTION:Atenció sanitària immediata
URL:https://arenysdemar.cat/document.php?id=20708
END:VEVENT
END:VCALENDAR