BEGIN:VCALENDAR
VERSION:2.0
PRODID:-//Plone.org//NONSGML plone.app.event//EN
X-WR-TIMEZONE:Europe/Madrid
BEGIN:VEVENT
SUMMARY:Taller de graffittis
DTSTART;TZID=Europe/Madrid;VALUE=DATE-TIME:20091017T170000
DTEND;TZID=Europe/Madrid;VALUE=DATE-TIME:20091017T180000
DTSTAMP;VALUE=DATE-TIME:20260420T192258Z
UID:4e0dd1f865f2e5feeeb1c5c1b5bcd69c
CREATED;VALUE=DATE-TIME:20091017T000000Z
CATEGORIES:Mostra
LOCATION:Espai Jove del C.C.Calisay - Riera del Pare Fita, 31
ORGANIZER:Espai jove - Regidoria d'Infància i Joventut
URL:https://arenysdemar.cat/document.php?id=20714
END:VEVENT
END:VCALENDAR