BEGIN:VCALENDAR
VERSION:2.0
PRODID:-//Plone.org//NONSGML plone.app.event//EN
X-WR-TIMEZONE:Europe/Madrid
BEGIN:VEVENT
SUMMARY:Berenar i ball de la Diada de la Gent Gran
DTSTART;TZID=Europe/Madrid;VALUE=DATE-TIME:20091022T173000
DTEND;TZID=Europe/Madrid;VALUE=DATE-TIME:20091022T183000
DTSTAMP;VALUE=DATE-TIME:20260421T225304Z
UID:a7a2791d13c1bbb800628f18aa2bf3d4
CREATED;VALUE=DATE-TIME:20091022T000000Z
CATEGORIES:Festa
LOCATION:Sala Polivalent del C.C.Calisay - Riera Pare Fita, 31
ORGANIZER:Regidoria Acció Social
COMMENT:Preu: gratuït
URL:https://arenysdemar.cat/document.php?id=20716
END:VEVENT
END:VCALENDAR