BEGIN:VCALENDAR
VERSION:2.0
PRODID:-//Plone.org//NONSGML plone.app.event//EN
X-WR-TIMEZONE:Europe/Madrid
BEGIN:VEVENT
SUMMARY:Òpera: Simon Boccanegra de Giuseppe Verdi
DTSTART;TZID=Europe/Madrid;VALUE=DATE-TIME:20091029T183000
DTEND;TZID=Europe/Madrid;VALUE=DATE-TIME:20091029T193000
DTSTAMP;VALUE=DATE-TIME:20260423T224539Z
UID:b62bab78615fdd6118451efd5980ffdb
CREATED;VALUE=DATE-TIME:20091029T000000Z
CATEGORIES:Cinema,Música
LOCATION:Teatre Principal - C. Església, 45-47
ORGANIZER:SC L'Esperança - Regidoria de Cultura
COMMENT:Preu: Anticipada 12 &euro; -Taquilla 15 &euro;
DESCRIPTION:Retransmissió en directe via satèl·lit des del Teatro Massimo de Palermo
URL:https://arenysdemar.cat/document.php?id=20721
END:VEVENT
END:VCALENDAR