BEGIN:VCALENDAR
VERSION:2.0
PRODID:-//Plone.org//NONSGML plone.app.event//EN
X-WR-TIMEZONE:Europe/Madrid
BEGIN:VEVENT
SUMMARY:Òpera: Carmen de Georges Bizet
DTSTART;TZID=Europe/Madrid;VALUE=DATE-TIME:20091207T180000
DTEND;TZID=Europe/Madrid;VALUE=DATE-TIME:20091207T190000
DTSTAMP;VALUE=DATE-TIME:20260423T144924Z
UID:21bc60746b2458c564209e816ab5f70d
CREATED;VALUE=DATE-TIME:20091207T000000Z
CATEGORIES:Cinema,Música
LOCATION:Teatre Principal - C. Església, 45-47
ORGANIZER:SC L'Esperança i Regidoria de Cultura
COMMENT:Preu: Anticipada 12 &euro; - Taquilla 15 &euro;
DESCRIPTION:Retransmissió via satèl·lit des del Teatro alla Scala de Milà
URL:https://arenysdemar.cat/document.php?id=20723
END:VEVENT
END:VCALENDAR