BEGIN:VCALENDAR
VERSION:2.0
PRODID:-//Plone.org//NONSGML plone.app.event//EN
X-WR-TIMEZONE:Europe/Madrid
BEGIN:VEVENT
SUMMARY:Catalunya, renovació moral i material a càrrec de Xavier Roig, empresari i articulista
DTSTART;TZID=Europe/Madrid;VALUE=DATE-TIME:20091017T190000
DTEND;TZID=Europe/Madrid;VALUE=DATE-TIME:20091017T200000
DTSTAMP;VALUE=DATE-TIME:20260421T201105Z
UID:982a8520a89c2b61f845ef706309cbd5
CREATED;VALUE=DATE-TIME:20091017T000000Z
CATEGORIES:Conferència
LOCATION:Sala Noble del C.C.Calisay - Riera Pare Fita, 31
ORGANIZER:Centre d'Estudis Josep Baralt
URL:https://arenysdemar.cat/document.php?id=20726
END:VEVENT
END:VCALENDAR