BEGIN:VCALENDAR
VERSION:2.0
PRODID:-//Plone.org//NONSGML plone.app.event//EN
X-WR-TIMEZONE:Europe/Madrid
BEGIN:VEVENT
SUMMARY:Hora del conte
DTSTART;TZID=Europe/Madrid;VALUE=DATE-TIME:20091105T180000
DTEND;TZID=Europe/Madrid;VALUE=DATE-TIME:20091105T190000
DTSTAMP;VALUE=DATE-TIME:20260421T200521Z
UID:8fa097c325896d2c7837f9df16460ecb
CREATED;VALUE=DATE-TIME:20091105T000000Z
LOCATION:Biblioteca - Bonaire, 2
ORGANIZER:Biblioteca - Regidoria de Cultura
DESCRIPTION:a càrrec de Carme Vera
URL:https://arenysdemar.cat/document.php?id=20729
END:VEVENT
END:VCALENDAR