BEGIN:VCALENDAR
VERSION:2.0
PRODID:-//Plone.org//NONSGML plone.app.event//EN
X-WR-TIMEZONE:Europe/Madrid
BEGIN:VEVENT
SUMMARY:Ball a l'Ateneu
DTSTART;TZID=Europe/Madrid;VALUE=DATE-TIME:20091010T230000
DTEND;TZID=Europe/Madrid;VALUE=DATE-TIME:20091011T000000
DTSTAMP;VALUE=DATE-TIME:20260421T124829Z
UID:cb8913893b8e9fa629f7e9aa0b3abc5c
CREATED;VALUE=DATE-TIME:20091010T000000Z
CATEGORIES:Música
LOCATION:Ateneu Arenyenc
ORGANIZER:Ateneu Arenyenc
DESCRIPTION:amb el grup Que Tal
URL:https://arenysdemar.cat/document.php?id=20755
END:VEVENT
END:VCALENDAR