BEGIN:VCALENDAR
VERSION:2.0
PRODID:-//Plone.org//NONSGML plone.app.event//EN
X-WR-TIMEZONE:Europe/Madrid
BEGIN:VEVENT
SUMMARY:Fira Col·leccionisme
DTSTART;TZID=Europe/Madrid;VALUE=DATE-TIME:20091011T100000
DTEND;TZID=Europe/Madrid;VALUE=DATE-TIME:20091011T110000
DTSTAMP;VALUE=DATE-TIME:20260421T113224Z
UID:c8d1e9a944ae39033a118f81274e3d35
CREATED;VALUE=DATE-TIME:20091011T000000Z
CATEGORIES:Mostra
LOCATION:Patí de l'Edifici Calisay
ORGANIZER:Ajuntament d'Arenys de Mar- Associació d'Amics del Col·leccionisme d'Arenys
URL:https://arenysdemar.cat/document.php?id=20789
END:VEVENT
END:VCALENDAR