BEGIN:VCALENDAR
VERSION:2.0
PRODID:-//Plone.org//NONSGML plone.app.event//EN
X-WR-TIMEZONE:Europe/Madrid
BEGIN:VEVENT
SUMMARY:Jornada de portes obertes al Museu Mollfulleda de Mineralogia
DTSTART;TZID=Europe/Madrid;VALUE=DATE-TIME:20091115T110000
DTEND;TZID=Europe/Madrid;VALUE=DATE-TIME:20091115T120000
DTSTAMP;VALUE=DATE-TIME:20260421T161224Z
UID:14bb502940f66a99412c46e82b7a5968
CREATED;VALUE=DATE-TIME:20091115T000000Z
LOCATION:Museu Mineralogia - Església, 37-39
ORGANIZER:Museu d'Arenys de Mar
COMMENT:Preu: Gratuït
URL:https://arenysdemar.cat/document.php?id=20793
END:VEVENT
END:VCALENDAR