BEGIN:VCALENDAR
VERSION:2.0
PRODID:-//Plone.org//NONSGML plone.app.event//EN
X-WR-TIMEZONE:Europe/Madrid
BEGIN:VEVENT
SUMMARY:Jornada de portes obertes al Museu Mollfulleda de Mineralogia
DTSTART;TZID=Europe/Madrid;VALUE=DATE-TIME:20091121T000000
DTEND;TZID=Europe/Madrid;VALUE=DATE-TIME:20091121T010000
DTSTAMP;VALUE=DATE-TIME:20260423T144358Z
UID:045c72e373b064b3726394177adeab57
CREATED;VALUE=DATE-TIME:20091121T000000Z
LOCATION:Museu Mineralogia - Església, 37-39
ORGANIZER:Museu d'Arenys de Mar - Regidoria de Cultura
COMMENT:Preu: Gratuït
URL:https://arenysdemar.cat/document.php?id=20794
END:VEVENT
END:VCALENDAR