BEGIN:VCALENDAR
VERSION:2.0
PRODID:-//Plone.org//NONSGML plone.app.event//EN
X-WR-TIMEZONE:Europe/Madrid
BEGIN:VEVENT
SUMMARY:Parlem sobre la coeducació
DTSTART;TZID=Europe/Madrid;VALUE=DATE-TIME:20091127T190000
DTEND;TZID=Europe/Madrid;VALUE=DATE-TIME:20091127T200000
DTSTAMP;VALUE=DATE-TIME:20260420T211955Z
UID:69e72c7f3ec3520218855edcbfec6fcf
CREATED;VALUE=DATE-TIME:20091127T000000Z
CATEGORIES:Conferència
LOCATION:Sala Noble del C.C.Calisay - Riera Pare Fita, 31
ORGANIZER:Regidoria d'Igualtat
DESCRIPTION:Mares i pares per la Igualtat
URL:https://arenysdemar.cat/document.php?id=20799
END:VEVENT
END:VCALENDAR