BEGIN:VCALENDAR
VERSION:2.0
PRODID:-//Plone.org//NONSGML plone.app.event//EN
X-WR-TIMEZONE:Europe/Madrid
BEGIN:VEVENT
SUMMARY:Inscripcions al Curs d'iniciació a la fotografia
DTSTART;TZID=Europe/Madrid;VALUE=DATE-TIME:20091101T000000
DTEND;TZID=Europe/Madrid;VALUE=DATE-TIME:20091101T010000
DTSTAMP;VALUE=DATE-TIME:20260423T144442Z
UID:043e6a68822ae811b28ab46737c8e649
CREATED;VALUE=DATE-TIME:20091101T000000Z
CATEGORIES:Cursos
LOCATION:afaarenys@gmail.com
ORGANIZER:AFA
COMMENT:Preu: 45 &euro;,  35 &euro; socis de l'AFA o del Seràfics
Durada: 14, 21, 22 i 28 de novembre
URL:https://arenysdemar.cat/document.php?id=20800
END:VEVENT
END:VCALENDAR