BEGIN:VCALENDAR
VERSION:2.0
PRODID:-//Plone.org//NONSGML plone.app.event//EN
X-WR-TIMEZONE:Europe/Madrid
BEGIN:VEVENT
SUMMARY:Conferència de Bioclimatologia : Bioclimatologia i comportament humà
DTSTART;TZID=Europe/Madrid;VALUE=DATE-TIME:20091103T180000
DTEND;TZID=Europe/Madrid;VALUE=DATE-TIME:20091103T190000
DTSTAMP;VALUE=DATE-TIME:20260421T182541Z
UID:d2bf7d175be407038c92c3ea13d506a1
CREATED;VALUE=DATE-TIME:20091103T000000Z
CATEGORIES:Conferència
LOCATION:Auditori J.M. Arnau del C.C.Calisay - Riera del Pare Fita, 31
ORGANIZER:Aula d'Extensió Universitària
DESCRIPTION:a càrrec d'Antoni Bulbena de l'Acadèmia de Ciències Mèdiques de Catalunya i Balears
URL:https://arenysdemar.cat/document.php?id=20809
END:VEVENT
END:VCALENDAR