BEGIN:VCALENDAR
VERSION:2.0
PRODID:-//Plone.org//NONSGML plone.app.event//EN
X-WR-TIMEZONE:Europe/Madrid
BEGIN:VEVENT
SUMMARY:Conferència de Món Contemporani : Emirats àrabs i nosaltres. Una introducció a la realitat dels emirats
DTSTART;TZID=Europe/Madrid;VALUE=DATE-TIME:20091117T180000
DTEND;TZID=Europe/Madrid;VALUE=DATE-TIME:20091117T190000
DTSTAMP;VALUE=DATE-TIME:20260421T162144Z
UID:868f8066aacb57e4679e344b503e49d8
CREATED;VALUE=DATE-TIME:20091117T000000Z
CATEGORIES:Conferència
LOCATION:Auditori J.M. Arnau del C.C.Calisay - Riera del Pare Fita, 31
ORGANIZER:Aula d'Extensió Universitària
DESCRIPTION:a càrrec de Víctor Pallejà de la Universitat Oberta de Catalunya
URL:https://arenysdemar.cat/document.php?id=20812
END:VEVENT
END:VCALENDAR