BEGIN:VCALENDAR
VERSION:2.0
PRODID:-//Plone.org//NONSGML plone.app.event//EN
X-WR-TIMEZONE:Europe/Madrid
BEGIN:VEVENT
SUMMARY:TALLER DE GRAFITTIS
DTSTART;TZID=Europe/Madrid;VALUE=DATE-TIME:20091017T170000
DTEND;TZID=Europe/Madrid;VALUE=DATE-TIME:20091017T180000
DTSTAMP;VALUE=DATE-TIME:20260420T234123Z
UID:58d7eb287430df80737a5e348b5a8b9c
CREATED;VALUE=DATE-TIME:20091017T000000Z
CATEGORIES:Mostra
LOCATION:Pati del C.C.Calisay - Riera del Pare Fita, 31
ORGANIZER:Espai Jove - Regidoria d'Infància i Joventut
URL:https://arenysdemar.cat/document.php?id=20827
END:VEVENT
END:VCALENDAR