BEGIN:VCALENDAR
VERSION:2.0
PRODID:-//Plone.org//NONSGML plone.app.event//EN
X-WR-TIMEZONE:Europe/Madrid
BEGIN:VEVENT
SUMMARY:Cursos d´informàtica gratuïts &ndash; nivell B
DTSTART;TZID=Europe/Madrid;VALUE=DATE-TIME:20091116T153000
DTEND;TZID=Europe/Madrid;VALUE=DATE-TIME:20091116T163000
DTSTAMP;VALUE=DATE-TIME:20260424T010125Z
UID:09e571d6fafe3e97b3e816c533f770c5
CREATED;VALUE=DATE-TIME:20091116T000000Z
CATEGORIES:Cursos
LOCATION:Biblioteca - Bonaire, 2
ORGANIZER:SOC (Servei d´ocupació de Catalunya) &ndash; Diputació de Barcelona - Biblioteca &ndash; Regidoria de Cultura
COMMENT:Preu: gratuïts
Durada: 16/11/09-17/11/09-18/11/09-19/11/09
DESCRIPTION:Eines per l´ocupació
URL:https://arenysdemar.cat/document.php?id=20854
END:VEVENT
END:VCALENDAR