BEGIN:VCALENDAR
VERSION:2.0
PRODID:-//Plone.org//NONSGML plone.app.event//EN
X-WR-TIMEZONE:Europe/Madrid
BEGIN:VEVENT
SUMMARY:Tertúlia de novel&bull;la: El conte de Nadal de l´Auggie Wren de Paul Auster
DTSTART;TZID=Europe/Madrid;VALUE=DATE-TIME:20091214T190000
DTEND;TZID=Europe/Madrid;VALUE=DATE-TIME:20091214T200000
DTSTAMP;VALUE=DATE-TIME:20260420T170527Z
UID:fc0efcb34b112ae86d45ba204875b866
CREATED;VALUE=DATE-TIME:20091214T000000Z
LOCATION:Biblioteca - Bonaire, 2
ORGANIZER:Biblioteca - Regidoria de Cultura
DESCRIPTION:a càrrec de Cristina Valls
URL:https://arenysdemar.cat/document.php?id=20919
END:VEVENT
END:VCALENDAR