BEGIN:VCALENDAR
VERSION:2.0
PRODID:-//Plone.org//NONSGML plone.app.event//EN
X-WR-TIMEZONE:Europe/Madrid
BEGIN:VEVENT
SUMMARY:Cicle Parlem d'autisme, parlem d'inclusió
DTSTART;TZID=Europe/Madrid;VALUE=DATE-TIME:20091212T110000
DTEND;TZID=Europe/Madrid;VALUE=DATE-TIME:20091212T120000
DTSTAMP;VALUE=DATE-TIME:20260421T095907Z
UID:d0a27c7967b57852c43ef1f30704ad73
CREATED;VALUE=DATE-TIME:20091212T000000Z
CATEGORIES:Conferència
LOCATION:Centre Cívic Parc Sandaru (C/ Buenaventura Muñoz, 21, 08018, Barcelona)
ORGANIZER:Aprenem, associació per a la Inclusió de les Persones amb Trastorn de l'Espectre Autista
COMMENT:Preu: Conferència gratuïta amb aforament limitad
DESCRIPTION:L'assistència personal,clau per la  vida independent i la inclusió social
URL:https://arenysdemar.cat/document.php?id=20934
END:VEVENT
END:VCALENDAR