BEGIN:VCALENDAR
VERSION:2.0
PRODID:-//Plone.org//NONSGML plone.app.event//EN
X-WR-TIMEZONE:Europe/Madrid
BEGIN:VEVENT
SUMMARY:Curs de monitors
DTSTART;TZID=Europe/Madrid;VALUE=DATE-TIME:20100102T093000
DTEND;TZID=Europe/Madrid;VALUE=DATE-TIME:20100102T103000
DTSTAMP;VALUE=DATE-TIME:20260422T032241Z
UID:ff0b7f0010e247155eb034ee19cb2002
CREATED;VALUE=DATE-TIME:20100102T000000Z
CATEGORIES:Cursos
LOCATION:Espai Jove del C.C.Calisay - Riera del Pare Fita, 31
ORGANIZER:Regidoria d'Infància i Joventut i  Escola Lliure el Sol
COMMENT:Preu: 180 euros
Durada: Fins el 17 de gener
URL:https://arenysdemar.cat/document.php?id=20939
END:VEVENT
END:VCALENDAR