BEGIN:VCALENDAR
VERSION:2.0
PRODID:-//Plone.org//NONSGML plone.app.event//EN
X-WR-TIMEZONE:Europe/Madrid
BEGIN:VEVENT
SUMMARY:Jocs de Taula
DTSTART;TZID=Europe/Madrid;VALUE=DATE-TIME:20091212T170000
DTEND;TZID=Europe/Madrid;VALUE=DATE-TIME:20091212T180000
DTSTAMP;VALUE=DATE-TIME:20260423T195044Z
UID:d6c49aa2e88a23e69112c09721e97779
CREATED;VALUE=DATE-TIME:20091212T000000Z
CATEGORIES:Festa
LOCATION:Espai Jove del C.C.Calisay - Riera del Pare Fita, 31
ORGANIZER:Organitzat per Regidoria d´Infància i Joventut-Espai jove
DESCRIPTION:Vine a passar una bona estona!
URL:https://arenysdemar.cat/document.php?id=20950
END:VEVENT
END:VCALENDAR