BEGIN:VCALENDAR
VERSION:2.0
PRODID:-//Plone.org//NONSGML plone.app.event//EN
X-WR-TIMEZONE:Europe/Madrid
BEGIN:VEVENT
SUMMARY:Guitar hero
DTSTART;TZID=Europe/Madrid;VALUE=DATE-TIME:20091205T170000
DTEND;TZID=Europe/Madrid;VALUE=DATE-TIME:20091205T180000
DTSTAMP;VALUE=DATE-TIME:20260423T140428Z
UID:51f89d1d82ea2a43381e865486fd3592
CREATED;VALUE=DATE-TIME:20091205T000000Z
CATEGORIES:Festa
LOCATION:Espai Jove del C.C.Calisay - Riera del Pare Fita, 31
ORGANIZER:Regidoria d'Infància i Joventut - Espai jove
URL:https://arenysdemar.cat/document.php?id=20952
END:VEVENT
END:VCALENDAR