BEGIN:VCALENDAR
VERSION:2.0
PRODID:-//Plone.org//NONSGML plone.app.event//EN
X-WR-TIMEZONE:Europe/Madrid
BEGIN:VEVENT
SUMMARY:Conferència: Pierre Teilhard de Chardin, un druïda del segle XX?
DTSTART;TZID=Europe/Madrid;VALUE=DATE-TIME:20100126T180000
DTEND;TZID=Europe/Madrid;VALUE=DATE-TIME:20100126T190000
DTSTAMP;VALUE=DATE-TIME:20260421T211144Z
UID:688c0ba965f9c03a5ba91e8ddc24158a
CREATED;VALUE=DATE-TIME:20100126T000000Z
CATEGORIES:Conferència
LOCATION:Auditori J.M. Arnau del C.C.Calisay - Riera del Pare Fita, 31
ORGANIZER:Aula d'Extensió Universitària
DESCRIPTION:a càrrec de Montserrat Noguera, professora de Filosofia de la Universitat de Barcelona.
URL:https://arenysdemar.cat/document.php?id=20955
END:VEVENT
END:VCALENDAR