BEGIN:VCALENDAR
VERSION:2.0
PRODID:-//Plone.org//NONSGML plone.app.event//EN
X-WR-TIMEZONE:Europe/Madrid
BEGIN:VEVENT
SUMMARY:Conferència i observació astronòmica a l'IES Els Tres Turons
DTSTART;TZID=Europe/Madrid;VALUE=DATE-TIME:20091212T190000
DTEND;TZID=Europe/Madrid;VALUE=DATE-TIME:20091212T200000
DTSTAMP;VALUE=DATE-TIME:20260424T040833Z
UID:b56a1fa25bb7facf8e9f09079d4f74bc
CREATED;VALUE=DATE-TIME:20091212T000000Z
CATEGORIES:Conferència
LOCATION:IES Els Tres Turons
ORGANIZER:IES Els Tres Turons
DESCRIPTION:La violència a la Prehistòria a càrrec de la Dra. Maria Àngels Petit i observació de les les Plèiades i la Nebulosa d'Orió
URL:https://arenysdemar.cat/document.php?id=20966
END:VEVENT
END:VCALENDAR