BEGIN:VCALENDAR
VERSION:2.0
PRODID:-//Plone.org//NONSGML plone.app.event//EN
X-WR-TIMEZONE:Europe/Madrid
BEGIN:VEVENT
SUMMARY:El cau amb La Marató de TV3
DTSTART;TZID=Europe/Madrid;VALUE=DATE-TIME:20091212T160000
DTEND;TZID=Europe/Madrid;VALUE=DATE-TIME:20091212T170000
DTSTAMP;VALUE=DATE-TIME:20260424T001735Z
UID:69ca58e9d6fe4c26a8a9806ca1ff8cbd
CREATED;VALUE=DATE-TIME:20091212T000000Z
CATEGORIES:Festa,Infantils
LOCATION:Diversos punts del poble.
ORGANIZER:Diverses unitats de l'Agrupament.
COMMENT:Preu: La voluntat
Durada: Fins a les 6 de la tarda.
DESCRIPTION:Col·labora amb la Marató!
URL:https://arenysdemar.cat/document.php?id=21029
END:VEVENT
END:VCALENDAR