BEGIN:VCALENDAR
VERSION:2.0
PRODID:-//Plone.org//NONSGML plone.app.event//EN
X-WR-TIMEZONE:Europe/Madrid
BEGIN:VEVENT
SUMMARY:Aijafadrim d´Àngel Alonso a càrrec del grup Kòmix de la Garriga
DTSTART;TZID=Europe/Madrid;VALUE=DATE-TIME:20100207T181500
DTEND;TZID=Europe/Madrid;VALUE=DATE-TIME:20100207T191500
DTSTAMP;VALUE=DATE-TIME:20260420T220838Z
UID:31b06b0dbed6bbec639cd12732e0d826
CREATED;VALUE=DATE-TIME:20100207T000000Z
CATEGORIES:Teatre
LOCATION:Casal de Joventut Seràfica - Josep Baralt s/n
ORGANIZER:Regidoria de Cultura i Grup Artístic Carles Xena
COMMENT:Preu: 6&euro; no socis 5&euro; socis 1&euro; estudiants
DESCRIPTION:38è Concurs de Teatre Amateur Premi Vila d'Arenys de Mar 2010
URL:https://arenysdemar.cat/document.php?id=21031
END:VEVENT
END:VCALENDAR