BEGIN:VCALENDAR
VERSION:2.0
PRODID:-//Plone.org//NONSGML plone.app.event//EN
X-WR-TIMEZONE:Europe/Madrid
BEGIN:VEVENT
SUMMARY:Exposició de fotografies: Gent
DTSTART;TZID=Europe/Madrid;VALUE=DATE-TIME:20100318T000000
DTEND;TZID=Europe/Madrid;VALUE=DATE-TIME:20100318T010000
DTSTAMP;VALUE=DATE-TIME:20260423T210638Z
UID:3e356f361a543b361bd01868b3a81eaa
CREATED;VALUE=DATE-TIME:20100318T000000Z
CATEGORIES:Exposició
LOCATION:Sala de les botes del C.C.Calisay
ORGANIZER:AFA
COMMENT:Durada: fins al 28 de març
DESCRIPTION:VII lliga social de fotografia - 3r lliurament
URL:https://arenysdemar.cat/document.php?id=21130
END:VEVENT
END:VCALENDAR