BEGIN:VCALENDAR
VERSION:2.0
PRODID:-//Plone.org//NONSGML plone.app.event//EN
X-WR-TIMEZONE:Europe/Madrid
BEGIN:VEVENT
SUMMARY:Exposició de fotografies: Fotografia d'aprop/macro
DTSTART;TZID=Europe/Madrid;VALUE=DATE-TIME:20100513T000000
DTEND;TZID=Europe/Madrid;VALUE=DATE-TIME:20100513T010000
DTSTAMP;VALUE=DATE-TIME:20260423T210943Z
UID:5b17c465e526f049d1447616e619cb97
CREATED;VALUE=DATE-TIME:20100513T000000Z
CATEGORIES:Mostra
LOCATION:Sala de les Bótes del C.C.Calisay
ORGANIZER:AFA
COMMENT:Durada: fins al 23 de maig
DESCRIPTION:VII lliga social de fotografia - 5è lliurament
URL:https://arenysdemar.cat/document.php?id=21132
END:VEVENT
END:VCALENDAR