BEGIN:VCALENDAR
VERSION:2.0
PRODID:-//Plone.org//NONSGML plone.app.event//EN
X-WR-TIMEZONE:Europe/Madrid
BEGIN:VEVENT
SUMMARY:Hora del conte: Dues gallines a la biblioteca
DTSTART;TZID=Europe/Madrid;VALUE=DATE-TIME:20100218T180000
DTEND;TZID=Europe/Madrid;VALUE=DATE-TIME:20100218T190000
DTSTAMP;VALUE=DATE-TIME:20260419T135016Z
UID:61ece7678e1e4adf300b19c41cd35537
CREATED;VALUE=DATE-TIME:20100218T000000Z
CATEGORIES:Infantils
LOCATION:Biblioteca - Bonaire, 2
ORGANIZER:Biblioteca - Regidoria de Cultura
DESCRIPTION:a càrrec de Montserrat Jordà
URL:https://arenysdemar.cat/document.php?id=21136
END:VEVENT
END:VCALENDAR