BEGIN:VCALENDAR
VERSION:2.0
PRODID:-//Plone.org//NONSGML plone.app.event//EN
X-WR-TIMEZONE:Europe/Madrid
BEGIN:VEVENT
SUMMARY:Hora del conte
DTSTART;TZID=Europe/Madrid;VALUE=DATE-TIME:20100211T180000
DTEND;TZID=Europe/Madrid;VALUE=DATE-TIME:20100211T190000
DTSTAMP;VALUE=DATE-TIME:20260419T153021Z
UID:f3380d457bb7284df2d989b556b48457
CREATED;VALUE=DATE-TIME:20100211T000000Z
CATEGORIES:Infantils
LOCATION:Biblioteca - Bonaire, 2
ORGANIZER:Biblioteca - Regidoria de Cultura
URL:https://arenysdemar.cat/document.php?id=21137
END:VEVENT
END:VCALENDAR