BEGIN:VCALENDAR
VERSION:2.0
PRODID:-//Plone.org//NONSGML plone.app.event//EN
X-WR-TIMEZONE:Europe/Madrid
BEGIN:VEVENT
SUMMARY:Hora del conte
DTSTART;TZID=Europe/Madrid;VALUE=DATE-TIME:20100204T180000
DTEND;TZID=Europe/Madrid;VALUE=DATE-TIME:20100204T190000
DTSTAMP;VALUE=DATE-TIME:20260422T213305Z
UID:fa264e97d20843e1f8ca800e4ba6062d
CREATED;VALUE=DATE-TIME:20100204T000000Z
CATEGORIES:Infantils
LOCATION:Biblioteca - Bonaire, 2
ORGANIZER:Biblioteca - Regidoria de Cultura
DESCRIPTION:a càrrec de Carme Vera
URL:https://arenysdemar.cat/document.php?id=21138
END:VEVENT
END:VCALENDAR