BEGIN:VCALENDAR
VERSION:2.0
PRODID:-//Plone.org//NONSGML plone.app.event//EN
X-WR-TIMEZONE:Europe/Madrid
BEGIN:VEVENT
SUMMARY:Conferència sobre música
DTSTART;TZID=Europe/Madrid;VALUE=DATE-TIME:20100226T180000
DTEND;TZID=Europe/Madrid;VALUE=DATE-TIME:20100226T190000
DTSTAMP;VALUE=DATE-TIME:20260422T132141Z
UID:199569fe04a253f56f43f452e5efd76f
CREATED;VALUE=DATE-TIME:20100226T000000Z
CATEGORIES:Música,Conferència
LOCATION:Auditori J.M. Arnau del C.C.Calisay - Riera del Pare Fita, 31
ORGANIZER:Aula d'Extensió Universitària
COMMENT:Preu: Tot el cicle. 17 &euro;
DESCRIPTION:L'evolució de l'instrument (de la segona meitat del s. XIX als nostres dies) a càrrec de Pere Andreu Jariod
URL:https://arenysdemar.cat/document.php?id=21145
END:VEVENT
END:VCALENDAR