BEGIN:VCALENDAR
VERSION:2.0
PRODID:-//Plone.org//NONSGML plone.app.event//EN
X-WR-TIMEZONE:Europe/Madrid
BEGIN:VEVENT
SUMMARY:Conferència sobre música
DTSTART;TZID=Europe/Madrid;VALUE=DATE-TIME:20100212T180000
DTEND;TZID=Europe/Madrid;VALUE=DATE-TIME:20100212T190000
DTSTAMP;VALUE=DATE-TIME:20260420T151725Z
UID:8dbbfc090d225e9b8f789a2e7cbc877d
CREATED;VALUE=DATE-TIME:20100212T000000Z
CATEGORIES:Música,Conferència
LOCATION:Auditori J.M. Arnau del C.C.Calisay - Riera del Pare Fita, 31
ORGANIZER:Aula d'Extensió Universitària
COMMENT:Preu: Tot el cicle: 17 &euro;
DESCRIPTION:El bicentenari de Fréderic Chopin a càrrec de Joan Vives
URL:https://arenysdemar.cat/document.php?id=21148
END:VEVENT
END:VCALENDAR