BEGIN:VCALENDAR
VERSION:2.0
PRODID:-//Plone.org//NONSGML plone.app.event//EN
X-WR-TIMEZONE:Europe/Madrid
BEGIN:VEVENT
SUMMARY:Taller de decoupage per decorar capses
DTSTART;TZID=Europe/Madrid;VALUE=DATE-TIME:20100205T180000
DTEND;TZID=Europe/Madrid;VALUE=DATE-TIME:20100205T190000
DTSTAMP;VALUE=DATE-TIME:20260422T200428Z
UID:8b1e7819a329c2f60011347af92f1233
CREATED;VALUE=DATE-TIME:20100205T000000Z
CATEGORIES:Cursos
LOCATION:Biblioteca - Bonaire, 2
ORGANIZER:Associació de dones per la Igualtat d'Arenys de Mar
URL:https://arenysdemar.cat/document.php?id=21161
END:VEVENT
END:VCALENDAR