BEGIN:VCALENDAR
VERSION:2.0
PRODID:-//Plone.org//NONSGML plone.app.event//EN
X-WR-TIMEZONE:Europe/Madrid
BEGIN:VEVENT
SUMMARY:1a Trobada d'intercanvi d'inscrits i inscrites al Banc del Temps d'Arenys de Mar
DTSTART;TZID=Europe/Madrid;VALUE=DATE-TIME:20100225T190000
DTEND;TZID=Europe/Madrid;VALUE=DATE-TIME:20100225T200000
DTSTAMP;VALUE=DATE-TIME:20260420T184012Z
UID:a2ac0934ff674433962aa58762242b70
CREATED;VALUE=DATE-TIME:20100225T000000Z
CATEGORIES:Festa,Conferència
LOCATION:Edifici Xifré - Can Nadal s/n
ORGANIZER:Regidoria de Participació Ciutadana i Banc del Temps d'Arenys de Mar
COMMENT:Preu: Gratuït
Durada: 21:00
URL:https://arenysdemar.cat/document.php?id=21162
END:VEVENT
END:VCALENDAR