BEGIN:VCALENDAR
VERSION:2.0
PRODID:-//Plone.org//NONSGML plone.app.event//EN
X-WR-TIMEZONE:Europe/Madrid
BEGIN:VEVENT
SUMMARY:Espectacle Familiar: El món d'Irene
DTSTART;TZID=Europe/Madrid;VALUE=DATE-TIME:20101017T180000
DTEND;TZID=Europe/Madrid;VALUE=DATE-TIME:20101017T190000
DTSTAMP;VALUE=DATE-TIME:20260422T021606Z
UID:38551e15e650a00e071bb600cac14f9a
CREATED;VALUE=DATE-TIME:20101017T000000Z
CATEGORIES:Infantils
LOCATION:Teatre Principal - C. Església, 45-47
ORGANIZER:Teatre Principal - Regidoria de Cultura
DESCRIPTION:a càrrec de la Cia. Pep López i sopars de duro
URL:https://arenysdemar.cat/document.php?id=21208
END:VEVENT
END:VCALENDAR