BEGIN:VCALENDAR
VERSION:2.0
PRODID:-//Plone.org//NONSGML plone.app.event//EN
X-WR-TIMEZONE:Europe/Madrid
BEGIN:VEVENT
SUMMARY:Sortida: Paintball
DTSTART;TZID=Europe/Madrid;VALUE=DATE-TIME:20100313T093000
DTEND;TZID=Europe/Madrid;VALUE=DATE-TIME:20100313T103000
DTSTAMP;VALUE=DATE-TIME:20260420T232229Z
UID:96b0e6dda5417ae0953330f585a258a9
CREATED;VALUE=DATE-TIME:20100313T000000Z
CATEGORIES:Esports
LOCATION:Espai Jove del C.C.Calisay - Riera del Pare Fita, 31
ORGANIZER:Regidoria d'Infància i Joventut - Espai jove
COMMENT:Preu: 25 euros
Durada: Tot el dia
DESCRIPTION:L'espai Jove surt al carrer i et porta a passar un dia a descarregar adrenalina.
URL:https://arenysdemar.cat/document.php?id=21230
END:VEVENT
END:VCALENDAR