BEGIN:VCALENDAR
VERSION:2.0
PRODID:-//Plone.org//NONSGML plone.app.event//EN
X-WR-TIMEZONE:Europe/Madrid
BEGIN:VEVENT
SUMMARY:Curs de premonitors i premonitores d'educació en el lleure
DTSTART;TZID=Europe/Madrid;VALUE=DATE-TIME:20100329T090000
DTEND;TZID=Europe/Madrid;VALUE=DATE-TIME:20100329T100000
DTSTAMP;VALUE=DATE-TIME:20260422T030036Z
UID:fe3684575d9eae528255f6330c720ac6
CREATED;VALUE=DATE-TIME:20100329T000000Z
CATEGORIES:Cursos
LOCATION:Espai Jove del C.C.Calisay - Riera del Pare Fita, 31
ORGANIZER:Regidoria d'Infància i Joventut i Escola Lliure el Sol
COMMENT:Preu: 40 &euro;
Durada: 29, 30 i 31 de març
URL:https://arenysdemar.cat/document.php?id=21243
END:VEVENT
END:VCALENDAR