BEGIN:VCALENDAR
VERSION:2.0
PRODID:-//Plone.org//NONSGML plone.app.event//EN
X-WR-TIMEZONE:Europe/Madrid
BEGIN:VEVENT
SUMMARY:Un passeig per Sinera. Itinerari Salvador Espriu
DTSTART;TZID=Europe/Madrid;VALUE=DATE-TIME:20100228T100000
DTEND;TZID=Europe/Madrid;VALUE=DATE-TIME:20100228T110000
DTSTAMP;VALUE=DATE-TIME:20260422T040127Z
UID:fd23e271641e648eaf3cc94e1b52883b
CREATED;VALUE=DATE-TIME:20100228T000000Z
CATEGORIES:Literatura
LOCATION:Centre Cultural Calisay
ORGANIZER:Centre de Documentació i Estudi Salvador Espriu, Regidoria de Cultura i Biblioteca P. Fidel Fita
COMMENT:Preu: Gratuït
URL:https://arenysdemar.cat/document.php?id=21255
END:VEVENT
END:VCALENDAR