BEGIN:VCALENDAR
VERSION:2.0
PRODID:-//Plone.org//NONSGML plone.app.event//EN
X-WR-TIMEZONE:Europe/Madrid
BEGIN:VEVENT
SUMMARY:Conferència: Manifestar-se cristià avui
DTSTART;TZID=Europe/Madrid;VALUE=DATE-TIME:20100318T213000
DTEND;TZID=Europe/Madrid;VALUE=DATE-TIME:20100318T223000
DTSTAMP;VALUE=DATE-TIME:20260424T001818Z
UID:49dcf63649c5a33843cb2730f4e56b5a
CREATED;VALUE=DATE-TIME:20100318T000000Z
CATEGORIES:Conferència
LOCATION:Biblioteca - Bonaire, 2
ORGANIZER:Parròquies d´Arenys de Mar i d´Arenys de Munt
DESCRIPTION:a càrrec d´Antoni Nel&bull;lo, sacerdot
URL:https://arenysdemar.cat/document.php?id=21329
END:VEVENT
END:VCALENDAR