BEGIN:VCALENDAR
VERSION:2.0
PRODID:-//Plone.org//NONSGML plone.app.event//EN
X-WR-TIMEZONE:Europe/Madrid
BEGIN:VEVENT
SUMMARY:XIII Mostra de Tallers Artesans
DTSTART;TZID=Europe/Madrid;VALUE=DATE-TIME:20100619T170000
DTEND;TZID=Europe/Madrid;VALUE=DATE-TIME:20100619T180000
DTSTAMP;VALUE=DATE-TIME:20260423T232238Z
UID:3b85f99384ab0e6108a7c12ccbdc2929
CREATED;VALUE=DATE-TIME:20100619T000000Z
CATEGORIES:Mostra
LOCATION:Pati del C.C.Calisay - Riera del Pare Fita, 31
ORGANIZER:Comissió Fira Solstici
COMMENT:Durada: També el 20 de juny
URL:https://arenysdemar.cat/document.php?id=21345
END:VEVENT
END:VCALENDAR