BEGIN:VCALENDAR
VERSION:2.0
PRODID:-//Plone.org//NONSGML plone.app.event//EN
X-WR-TIMEZONE:Europe/Madrid
BEGIN:VEVENT
SUMMARY:Mostra de Ball Country Banc del Temps
DTSTART;TZID=Europe/Madrid;VALUE=DATE-TIME:20100310T190000
DTEND;TZID=Europe/Madrid;VALUE=DATE-TIME:20100310T200000
DTSTAMP;VALUE=DATE-TIME:20260424T060726Z
UID:fd4d46f89eb4c687d7ed4db505019806
CREATED;VALUE=DATE-TIME:20100310T000000Z
CATEGORIES:Música
LOCATION:Sala Polivalent del C.C.Calisay - Riera Pare Fita, 31
ORGANIZER:Banc del Temps d'Arenys de Mar
DESCRIPTION:Ball Country amb els usuaris del Banc del Temps
URL:https://arenysdemar.cat/document.php?id=21348
END:VEVENT
END:VCALENDAR