BEGIN:VCALENDAR
VERSION:2.0
PRODID:-//Plone.org//NONSGML plone.app.event//EN
X-WR-TIMEZONE:Europe/Madrid
BEGIN:VEVENT
SUMMARY:Hora del conte
DTSTART;TZID=Europe/Madrid;VALUE=DATE-TIME:20100520T180000
DTEND;TZID=Europe/Madrid;VALUE=DATE-TIME:20100520T190000
DTSTAMP;VALUE=DATE-TIME:20260421T125928Z
UID:a87a8b68d4150849473d7027d6cebb7d
CREATED;VALUE=DATE-TIME:20100520T000000Z
CATEGORIES:Infantils
LOCATION:Sala d'actes de la Biblioteca - C. Bonaire, 2
ORGANIZER:Biblioteca - Regidoria de Cultura
DESCRIPTION:a càrrec de Ramon Vinyes
URL:https://arenysdemar.cat/document.php?id=21519
END:VEVENT
END:VCALENDAR