BEGIN:VCALENDAR
VERSION:2.0
PRODID:-//Plone.org//NONSGML plone.app.event//EN
X-WR-TIMEZONE:Europe/Madrid
BEGIN:VEVENT
SUMMARY:III Tastet Fotogràfic
DTSTART;TZID=Europe/Madrid;VALUE=DATE-TIME:20100619T173000
DTEND;TZID=Europe/Madrid;VALUE=DATE-TIME:20100619T183000
DTSTAMP;VALUE=DATE-TIME:20260424T061906Z
UID:409d94d9eee0b211dbf3e66c901c3e37
CREATED;VALUE=DATE-TIME:20100619T000000Z
CATEGORIES:Mostra
LOCATION:A la Riera davant del C.C.Calisay
ORGANIZER:Fira del Solstici, AFA i  Regidoria de Cultura
COMMENT:Preu: gratuït /cal apuntar-se
Durada: de les 17:30 a les 21:30
DESCRIPTION:Exposició de fotografies d'autor
URL:https://arenysdemar.cat/document.php?id=21527
END:VEVENT
END:VCALENDAR