BEGIN:VCALENDAR
VERSION:2.0
PRODID:-//Plone.org//NONSGML plone.app.event//EN
X-WR-TIMEZONE:Europe/Madrid
BEGIN:VEVENT
SUMMARY:Concurs de colles improvisades
DTSTART;TZID=Europe/Madrid;VALUE=DATE-TIME:20100812T193000
DTEND;TZID=Europe/Madrid;VALUE=DATE-TIME:20100812T203000
DTSTAMP;VALUE=DATE-TIME:20260423T211131Z
UID:1b7e405a35173d7892a3cf1e40f7131f
CREATED;VALUE=DATE-TIME:20100812T000000Z
CATEGORIES:Dansa
LOCATION:Plaça de l'Església - Plaça de l'Església
ORGANIZER:Regidoria de Cultura i Ateneu Arenyenc
DESCRIPTION:amb la Cobla Premià
URL:https://arenysdemar.cat/document.php?id=21595
END:VEVENT
END:VCALENDAR