BEGIN:VCALENDAR
VERSION:2.0
PRODID:-//Plone.org//NONSGML plone.app.event//EN
X-WR-TIMEZONE:Europe/Madrid
BEGIN:VEVENT
SUMMARY:Diumenges infantils: Tallers
DTSTART;TZID=Europe/Madrid;VALUE=DATE-TIME:20100829T180000
DTEND;TZID=Europe/Madrid;VALUE=DATE-TIME:20100829T190000
DTSTAMP;VALUE=DATE-TIME:20260424T100455Z
UID:9fba767f2fa73eaaa786eed0fc3e5e7d
CREATED;VALUE=DATE-TIME:20100829T000000Z
CATEGORIES:Infantils
LOCATION:Parc de Lurdes - c/ de les Doedes 1
ORGANIZER:Regidoria de Cultura
DESCRIPTION:amb Ecomagina
URL:https://arenysdemar.cat/document.php?id=21621
END:VEVENT
END:VCALENDAR