BEGIN:VCALENDAR
VERSION:2.0
PRODID:-//Plone.org//NONSGML plone.app.event//EN
X-WR-TIMEZONE:Europe/Madrid
BEGIN:VEVENT
SUMMARY:Torneig de tennis taula
DTSTART;TZID=Europe/Madrid;VALUE=DATE-TIME:20100604T170000
DTEND;TZID=Europe/Madrid;VALUE=DATE-TIME:20100604T180000
DTSTAMP;VALUE=DATE-TIME:20260423T233212Z
UID:4df7e955b531b3ec08e8d0fc0f9dd71d
CREATED;VALUE=DATE-TIME:20100604T000000Z
CATEGORIES:Esports
LOCATION:Espai Jove del C.C.Calisay - Riera del Pare Fita, 31
ORGANIZER:Regidoria d'Infància i joventut - Espai Jove
DESCRIPTION:Vine i participa!
URL:https://arenysdemar.cat/document.php?id=21642
END:VEVENT
END:VCALENDAR